BEGIN:VCALENDAR
X-WR-TIMEZONE;VALUE=TEXT:Europe/London
VERSION:2.0
CALSCALE:GREGORIAN
BEGIN:VEVENT
UID:2ee0e713-79df-4e35-981e-bec57f3e9276@techdiary
DTSTAMP:20160927T113259                                     
URL:https://www.techdiary.co.uk/event/2ee0e713-79df-4e35-981e-bec57f3e9276
DTSTART:20161007T190000
DTEND:20161007T220000

SUMMARY:aNEmeet
DESCRIPTION:A group to try to bring together a community of animators and illustrators in the North East for informal gatherings. Bianca Ansems speaks. (Price: FREE)
LOCATION:The Bridge Hotel\, Castle Square\, Newcastle upon Tyne\, NE1 1RQ
END:VEVENT
END:VCALENDAR
