BEGIN:VCALENDAR
X-WR-TIMEZONE;VALUE=TEXT:Europe/London
VERSION:2.0
CALSCALE:GREGORIAN
BEGIN:VEVENT
UID:2eac72a1-1422-423b-8154-bc306827a9ef@techdiary
DTSTAMP:20170918T142949                                     
URL:https://www.techdiary.co.uk/event/2eac72a1-1422-423b-8154-bc306827a9ef
DTSTART:20170921T183000
DTEND:20170921T183000

SUMMARY:September
DESCRIPTION:Three talks\, &quot;What is DevOps?&quot; (Craig Pearson)\, &quot;Digital and DevOps evolution at Digital City&quot; (Dan Watson)\, and &quot;Avoiding the Zombie Apocalypse: &#039;Weed &#039;em and &#039;Reap&#039;&quot; (Michael Moorhouse). (Price: FREE)
LOCATION:Fusion Hive\, North Shore Road\, Stockton TS18 2NB\, Stockton
END:VEVENT
END:VCALENDAR
