BEGIN:VCALENDAR
X-WR-TIMEZONE;VALUE=TEXT:Europe/London
VERSION:2.0
CALSCALE:GREGORIAN
BEGIN:VEVENT
UID:2bf66cb7-6608-491a-b4e5-b6be76b7098b@techdiary
DTSTAMP:20200902T095747                                     
URL:https://www.techdiary.co.uk/event/2bf66cb7-6608-491a-b4e5-b6be76b7098b
DTSTART:00200902T200000
DTEND:20200902T213000

SUMMARY:Pre-Accelerator Fall Program AMA
DESCRIPTION:Learn about Startup Boost for consideration of the Newcastle programme (Price: FREE)
LOCATION:Online (remote)
END:VEVENT
END:VCALENDAR
