BEGIN:VCALENDAR
X-WR-TIMEZONE;VALUE=TEXT:Europe/London
VERSION:2.0
CALSCALE:GREGORIAN
BEGIN:VEVENT
UID:2bf0755f-42c0-410a-887b-15d2d952669a@techdiary
DTSTAMP:20200630T095350                                     
URL:https://www.techdiary.co.uk/event/2bf0755f-42c0-410a-887b-15d2d952669a
DTSTART:20200702T140000
DTEND:20200702T144500

SUMMARY:Chronic Insights
DESCRIPTION:James Allen speaks about Chronic Insights\, a symptom diary for those suffering with chronic health conditions\, designed to gain insights from changes in symptoms over time. (Price: FREE)
LOCATION:Online (remote)
END:VEVENT
END:VCALENDAR
