BEGIN:VCALENDAR
X-WR-TIMEZONE;VALUE=TEXT:Europe/London
VERSION:2.0
CALSCALE:GREGORIAN
BEGIN:VEVENT
UID:294bea9b-5c5c-4600-a3a8-ec25512781a0@techdiary
DTSTAMP:20161107T135620                                     
URL:https://www.techdiary.co.uk/event/294bea9b-5c5c-4600-a3a8-ec25512781a0
DTSTART:20161117T183000
DTEND:20161117T183000

SUMMARY:1st Birthday Party\, Let&#039;s &quot;swarm&quot; with Docker!
DESCRIPTION:A recap of D.O.N.E. first year followed by a talk on Docker Swarm. (Price: FREE)
LOCATION:Classroom\, Campus North\, Sunco House\, 5 Carliol Square\, Newcastle Upon Tyne\, NE1 6UF
END:VEVENT
END:VCALENDAR
