BEGIN:VCALENDAR
X-WR-TIMEZONE;VALUE=TEXT:Europe/London
VERSION:2.0
CALSCALE:GREGORIAN
BEGIN:VEVENT
UID:27847343-258c-47f2-86f4-398ef933743f@techdiary
DTSTAMP:20220601T094609                                     
URL:https://www.techdiary.co.uk/event/27847343-258c-47f2-86f4-398ef933743f
DTSTART:20220616T183000
DTEND:20220616T210000

SUMMARY:June
DESCRIPTION:More Testable Code with the Hexagonal Architecture + Event Sourcing and CQRS on Azure Functions (Price: FREE)
LOCATION:Online (remote)
END:VEVENT
END:VCALENDAR
