BEGIN:VCALENDAR
X-WR-TIMEZONE;VALUE=TEXT:Europe/London
VERSION:2.0
CALSCALE:GREGORIAN
BEGIN:VEVENT
UID:277b6878-b8fd-4b0f-9477-07ad9bfb5974@techdiary
DTSTAMP:20200517T103311                                     
URL:https://www.techdiary.co.uk/event/277b6878-b8fd-4b0f-9477-07ad9bfb5974
DTSTART:20200520T194500
DTEND:20200520T214500

SUMMARY:Volume 7
DESCRIPTION:Three speakers share their stories of business crashes and burns\, partnership deals going sour\, products that have to be recalled... (Price: FREE)
LOCATION:Online (remote)
END:VEVENT
END:VCALENDAR
