BEGIN:VCALENDAR
X-WR-TIMEZONE;VALUE=TEXT:Europe/London
VERSION:2.0
CALSCALE:GREGORIAN
BEGIN:VEVENT
UID:25bba24c-8185-4c57-a745-8c7804f642b6@techdiary
DTSTAMP:20210217T162148                                     
URL:https://www.techdiary.co.uk/event/25bba24c-8185-4c57-a745-8c7804f642b6
DTSTART:20210304T150000
DTEND:20210304T160000

SUMMARY:The Future of Assistive Technology
DESCRIPTION:With Mark Larsen\, Laetitia Cailleteau\, and Professor Nic Palmarini. (Price: FREE)
LOCATION:Online (remote)
END:VEVENT
END:VCALENDAR
