BEGIN:VCALENDAR
X-WR-TIMEZONE;VALUE=TEXT:Europe/London
VERSION:2.0
CALSCALE:GREGORIAN
BEGIN:VEVENT
UID:242f6326-4794-4293-a3ce-0b5f1dce7fb4@techdiary
DTSTAMP:20180416T112209                                     
URL:https://www.techdiary.co.uk/event/242f6326-4794-4293-a3ce-0b5f1dce7fb4
DTSTART:20180419T183000
DTEND:20180419T183000

SUMMARY:Chef Habitat
DESCRIPTION:Simon Fisher will talk about Chef Habitat\, an open-source project that enables you to ship your application\, to any platform\, along with all the automation you’ll need to manage it in production. (Price: FREE)
LOCATION:Campus North\, Sunco House\, 5 Carliol Square\, Newcastle Upon Tyne\, NE1 6UF
END:VEVENT
END:VCALENDAR
