BEGIN:VCALENDAR
X-WR-TIMEZONE;VALUE=TEXT:Europe/London
VERSION:2.0
CALSCALE:GREGORIAN
BEGIN:VEVENT
UID:21204267-6e31-430f-ad35-068d288d60ef@techdiary
DTSTAMP:20200810T120646                                     
URL:https://www.techdiary.co.uk/event/21204267-6e31-430f-ad35-068d288d60ef
DTSTART:20200924T120000
DTEND:20200924T140000

SUMMARY:Staying Safe from Cyber Crime in Tourism
DESCRIPTION:Talks from Lucy Evermore\, Jon Hudson\, Noel Miland. (Price: FREE)
LOCATION:Online (remote)
END:VEVENT
END:VCALENDAR
