BEGIN:VCALENDAR
X-WR-TIMEZONE;VALUE=TEXT:Europe/London
VERSION:2.0
CALSCALE:GREGORIAN
BEGIN:VEVENT
UID:1ddc0580-3567-4724-8809-bf0f40160512@techdiary
DTSTAMP:20160602T154612                                     
URL:https://www.techdiary.co.uk/event/1ddc0580-3567-4724-8809-bf0f40160512
DTSTART:20160608T173000
DTEND:20160608T193000

SUMMARY:DynamoNet
DESCRIPTION:Hear about Dynamo&#039;s activities\, Dynamo 16 conference\, and how you can get involved in Dynamo workstreams. (Price: FREE / £24)
LOCATION:Watson Burton\, 1 St James&#039; Gate\, Newcastle upon Tyne. NE1 4AD.
END:VEVENT
END:VCALENDAR
