BEGIN:VCALENDAR
X-WR-TIMEZONE;VALUE=TEXT:Europe/London
VERSION:2.0
CALSCALE:GREGORIAN
BEGIN:VEVENT
UID:1db6aa3e-763e-4fee-8f99-c786a19e73e3@techdiary
DTSTAMP:20181011T152902                                     
URL:https://www.techdiary.co.uk/event/1db6aa3e-763e-4fee-8f99-c786a19e73e3
DTSTART:20181018T183000
DTEND:20181018T183000

SUMMARY:Ansible\, Culture and Startups
DESCRIPTION:Sunderland Software City talk about the business support available to local tech start-ups\, the &#039;digital catapult&#039; programme and immersive tech lab. Sicarius and Lhasa will talk about experience of DevOps and Phil Cornelius will demo Ansible for &#039;Enterprise Grade&#039;. (Price: FREE)
LOCATION:The Software Centre\, Tavistock Place\, Sunderland\, SR1 1PB
END:VEVENT
END:VCALENDAR
