BEGIN:VCALENDAR
X-WR-TIMEZONE;VALUE=TEXT:Europe/London
VERSION:2.0
CALSCALE:GREGORIAN
BEGIN:VEVENT
UID:1bc628fb-d05f-493a-a58a-bcd35f0442c8@techdiary
DTSTAMP:20160524T183554                                     
URL:https://www.techdiary.co.uk/event/1bc628fb-d05f-493a-a58a-bcd35f0442c8
DTSTART:20160519T183000
DTEND:20160519T183000

SUMMARY:DevOps North East: Windows DevOps with a serving of &quot;Salt&quot;
DESCRIPTION:Two talks: &quot;Building an agile Windows infrastructure to support DevOps world flows&quot; (Jonathan Noble) and &quot;Getting started with the Salt configuration management system&quot; (Scott Walton) (Price: FREE)
LOCATION:Newcastle University\, Tyne and Wear. NE1 7RU
END:VEVENT
END:VCALENDAR
