BEGIN:VCALENDAR
X-WR-TIMEZONE;VALUE=TEXT:Europe/London
VERSION:2.0
CALSCALE:GREGORIAN
BEGIN:VEVENT
UID:1b7c31af-322b-41ee-8313-644ba607de96@techdiary
DTSTAMP:20210630T083759                                     
URL:https://www.techdiary.co.uk/event/1b7c31af-322b-41ee-8313-644ba607de96
DTSTART:20210630T193000
DTEND:20210630T213000

SUMMARY:Reverse-engineering Minecraft randomness to get world records - DC44191
DESCRIPTION:@Jurrejelle is a 19 year old computer science and engineering student and recently\, a multiple minecraft world-record holder. (Price: FREE)
LOCATION:Online (remote)
END:VEVENT
END:VCALENDAR
