BEGIN:VCALENDAR
X-WR-TIMEZONE;VALUE=TEXT:Europe/London
VERSION:2.0
CALSCALE:GREGORIAN
BEGIN:VEVENT
UID:1b48bd98-0108-43dc-a296-49dafa29fcd2@techdiary
DTSTAMP:20200421T213027                                     
URL:https://www.techdiary.co.uk/event/1b48bd98-0108-43dc-a296-49dafa29fcd2
DTSTART:20200506T160000
DTEND:20200506T170000

SUMMARY:Barefoot Programming Workshop
DESCRIPTION: (Price: FREE)
LOCATION:Online (remote)
END:VEVENT
END:VCALENDAR
