BEGIN:VCALENDAR
X-WR-TIMEZONE;VALUE=TEXT:Europe/London
VERSION:2.0
CALSCALE:GREGORIAN
BEGIN:VEVENT
UID:1a149b5f-46be-4452-88f4-eee15199d6c2@techdiary
DTSTAMP:20191017T124554                                     
URL:https://www.techdiary.co.uk/event/1a149b5f-46be-4452-88f4-eee15199d6c2
DTSTART:20191115T100000
DTEND:20191115T150000

SUMMARY:Modelling Biological Systems
DESCRIPTION:For A level students who already have some knowledge of computer science and want to learn more (Price: FREE)
LOCATION:Newcastle Helix\, The Core\, The Core Newcastle upon Tyne
END:VEVENT
END:VCALENDAR
