BEGIN:VCALENDAR
X-WR-TIMEZONE;VALUE=TEXT:Europe/London
VERSION:2.0
CALSCALE:GREGORIAN
BEGIN:VEVENT
UID:19834260-6e40-440d-a9da-3911d1548d37@techdiary
DTSTAMP:20230210T182543                                     
URL:https://www.techdiary.co.uk/event/19834260-6e40-440d-a9da-3911d1548d37
DTSTART:20230301T163000
DTEND:20230301T180000

SUMMARY:Fundraising with CiviCRM
DESCRIPTION:Izi Clery presents (Price: FREE)
LOCATION:Online (remote)
END:VEVENT
END:VCALENDAR
