BEGIN:VCALENDAR
X-WR-TIMEZONE;VALUE=TEXT:Europe/London
VERSION:2.0
CALSCALE:GREGORIAN
BEGIN:VEVENT
UID:17bde90f-289c-45a4-9abb-b4e83b570788@techdiary
DTSTAMP:20160113T163052                                     
URL:https://www.techdiary.co.uk/event/17bde90f-289c-45a4-9abb-b4e83b570788
DTSTART:20150324T183000
DTEND:20150324T183000

SUMMARY:Golang North East: Go chat and beer
DESCRIPTION:First meeting of this new group. (Price: FREE)
LOCATION:The Town Wall\, Pink Lane\, Newcastle upon Tyne\, NE1 5HX
END:VEVENT
END:VCALENDAR
