BEGIN:VCALENDAR
X-WR-TIMEZONE;VALUE=TEXT:Europe/London
VERSION:2.0
CALSCALE:GREGORIAN
BEGIN:VEVENT
UID:17253370-6aa8-4e16-b438-63d7d03a2f8b@techdiary
DTSTAMP:20211018T121318                                     
URL:https://www.techdiary.co.uk/event/17253370-6aa8-4e16-b438-63d7d03a2f8b
DTSTART:20211022T123000
DTEND:20211022T133000

SUMMARY:The Realities in Rural Digital Transformation
DESCRIPTION:Transform how innovation is supported and encouraged in rural communities. (Price: FREE)
LOCATION:Online (remote)
END:VEVENT
END:VCALENDAR
