BEGIN:VCALENDAR
X-WR-TIMEZONE;VALUE=TEXT:Europe/London
VERSION:2.0
CALSCALE:GREGORIAN
BEGIN:VEVENT
UID:1725029b-7881-4fc7-b574-9dab302c3bba@techdiary
DTSTAMP:20200630T103314                                     
URL:https://www.techdiary.co.uk/event/1725029b-7881-4fc7-b574-9dab302c3bba
DTSTART:20200716T140000
DTEND:20200716T144500

SUMMARY:Kick Cards
DESCRIPTION:James Rutherford talks about Kick Cards\, a playful tool that helps you to identify risks and opportunities within your business. (Price: FREE)
LOCATION:Online (remote)
END:VEVENT
END:VCALENDAR
