BEGIN:VCALENDAR
X-WR-TIMEZONE;VALUE=TEXT:Europe/London
VERSION:2.0
CALSCALE:GREGORIAN
BEGIN:VEVENT
UID:16af31ad-f409-44d5-b310-683df86d0998@techdiary
DTSTAMP:20231019T121637                                     
URL:https://www.techdiary.co.uk/event/16af31ad-f409-44d5-b310-683df86d0998
DTSTART:20231027T080000
DTEND:20231027T100000

SUMMARY:Dynamo Talks with Northumbria University: The North East AI Safety Summit
DESCRIPTION:Join this pioneering AI safety debate and have your voice heard! (Price: FREE)
LOCATION:Northumbria University\,  City Campus East Newcastle upon Tyne NE1 8ST
END:VEVENT
END:VCALENDAR
