BEGIN:VCALENDAR
X-WR-TIMEZONE;VALUE=TEXT:Europe/London
VERSION:2.0
CALSCALE:GREGORIAN
BEGIN:VEVENT
UID:15de7cd2-1106-4077-8fe6-c47248256951@techdiary
DTSTAMP:20181212T120534                                     
URL:https://www.techdiary.co.uk/event/15de7cd2-1106-4077-8fe6-c47248256951
DTSTART:20181213T090000
DTEND:20181213T130000

SUMMARY:Workshop 1
DESCRIPTION:Identifying new solutions for an ageing society and helping bring them to market. (Price: FREE)
LOCATION:The Great Hall\, Discovery Museum Newcastle\, Blandford Square\, Newcastle upon Tyne\, NE1 4JA
END:VEVENT
END:VCALENDAR
