BEGIN:VCALENDAR
X-WR-TIMEZONE;VALUE=TEXT:Europe/London
VERSION:2.0
CALSCALE:GREGORIAN
BEGIN:VEVENT
UID:14f74af5-e784-4876-83ed-1342fa021eb1@techdiary
DTSTAMP:20200701T172647                                     
URL:https://www.techdiary.co.uk/event/14f74af5-e784-4876-83ed-1342fa021eb1
DTSTART:20200710T140000
DTEND:20200710T140000

SUMMARY:Creative &amp; Cultural Programme (Website)
DESCRIPTION:Fully funded sessions that cover different areas of digital adoption for Sunderland-based Arts\, Culture and Heritage creatives. (Price: FREE)
LOCATION:Online (remote)
END:VEVENT
END:VCALENDAR
