BEGIN:VCALENDAR
X-WR-TIMEZONE;VALUE=TEXT:Europe/London
VERSION:2.0
CALSCALE:GREGORIAN
BEGIN:VEVENT
UID:12e47b17-74e9-43c0-bffd-cf18f3943721@techdiary
DTSTAMP:20200810T115435                                     
URL:https://www.techdiary.co.uk/event/12e47b17-74e9-43c0-bffd-cf18f3943721
DTSTART:20200908T140000
DTEND:20200908T180000

SUMMARY:Sunderland: Cyber Security Needs You!
DESCRIPTION:Presentations and breakout streams. With Andi Pannell\, Richard Wallwork\, Kimberley Hendry\, Jon Hudson\, Jonathan Green\, Ben Kenyon\, Paul Jenkins\, Ross Cooney\, Dominic Button. (Price: FREE)
LOCATION:Online (remote)
END:VEVENT
END:VCALENDAR
