BEGIN:VCALENDAR
X-WR-TIMEZONE;VALUE=TEXT:Europe/London
VERSION:2.0
CALSCALE:GREGORIAN
BEGIN:VEVENT
UID:120384c5-0a59-479b-bda1-0db2d258c2ce@techdiary
DTSTAMP:20220417T220854                                     
URL:https://www.techdiary.co.uk/event/120384c5-0a59-479b-bda1-0db2d258c2ce
DTSTART:20220504T163000
DTEND:20220504T180000

SUMMARY:Form Builder
DESCRIPTION:Karen from Support Through Court will talk about their volunteering requirements. Kurund from Third Sector Design will speak about the implementation details. (Price: FREE)
LOCATION:Online (remote)
END:VEVENT
END:VCALENDAR
