BEGIN:VCALENDAR
X-WR-TIMEZONE;VALUE=TEXT:Europe/London
VERSION:2.0
CALSCALE:GREGORIAN
BEGIN:VEVENT
UID:11bfe8a7-95dc-44e7-a0d1-a0ed0c43d937@techdiary
DTSTAMP:20200730T111759                                     
URL:https://www.techdiary.co.uk/event/11bfe8a7-95dc-44e7-a0d1-a0ed0c43d937
DTSTART:20200929T173000
DTEND:20200929T200000

SUMMARY:Bringing Creativity to Cyber Security
DESCRIPTION:Bringing four groups together from the technical side of the cyber security industry to talk about their roles\, ISC2\, ISACA\, NELHS and OWASP\, and revealing a specially commissioned artwork to challenge thinking and perceptions. (Price: FREE)
LOCATION:Online (remote)
END:VEVENT
END:VCALENDAR
