BEGIN:VCALENDAR
X-WR-TIMEZONE;VALUE=TEXT:Europe/London
VERSION:2.0
CALSCALE:GREGORIAN
BEGIN:VEVENT
UID:101c2822-4d2c-493a-8056-3d827224a86f@techdiary
DTSTAMP:20231211T155625                                     
URL:https://www.techdiary.co.uk/event/101c2822-4d2c-493a-8056-3d827224a86f
DTSTART:20240314T190000
DTEND:20240314T233000

SUMMARY:Dynamo Dinner
DESCRIPTION:Members event (Price: £120 - 150)
LOCATION:Wylam Brewery\, Palace of Arts Exhibition Park\, Claremont Rd\, Newcastle upon Tyne\, NE2 4PZ
END:VEVENT
END:VCALENDAR
