BEGIN:VCALENDAR
X-WR-TIMEZONE;VALUE=TEXT:Europe/London
VERSION:2.0
CALSCALE:GREGORIAN
BEGIN:VEVENT
UID:0e6fc1f2-00ef-426c-81d8-62841c273500@techdiary
DTSTAMP:20200810T120511                                     
URL:https://www.techdiary.co.uk/event/0e6fc1f2-00ef-426c-81d8-62841c273500
DTSTART:20200923T083000
DTEND:20200923T103000

SUMMARY:Cyber Crime is Good for the Banking Sector?
DESCRIPTION:Discussions with Caroline Theobald CBE\, Dawn Dunn\, Phil Jackman\, Paul Lancaster\, Karen Elliott\, Tom Johnson\, Hydeam Sulton\, Rozib Mirza. (Price: FREE)
LOCATION:Online (remote)
END:VEVENT
END:VCALENDAR
