BEGIN:VCALENDAR
X-WR-TIMEZONE;VALUE=TEXT:Europe/London
VERSION:2.0
CALSCALE:GREGORIAN
BEGIN:VEVENT
UID:0cdfd449-78df-4d3b-b1ca-179b0e3f9aac@techdiary
DTSTAMP:20200525T104408                                     
URL:https://www.techdiary.co.uk/event/0cdfd449-78df-4d3b-b1ca-179b0e3f9aac
DTSTART:20200618T130000
DTEND:20200618T140000

SUMMARY:Peaks and Perils of long-term Virtual Working: Leadership lessons from the pioneers
DESCRIPTION:Setting up virtual teams for success\, way before you need to. Dealing with the dark-side of virtual working\, how leaders drive presenteeism\, at home. Blending place-based and virtual teams in a ‘phygital’ workplace. (Price: FREE)
LOCATION:Online (remote)
END:VEVENT
END:VCALENDAR
