BEGIN:VCALENDAR
X-WR-TIMEZONE;VALUE=TEXT:Europe/London
VERSION:2.0
CALSCALE:GREGORIAN
BEGIN:VEVENT
UID:097bc896-1ac0-4610-ac31-1708c40b35e3@techdiary
DTSTAMP:20160511T032307                                     
URL:https://www.techdiary.co.uk/event/097bc896-1ac0-4610-ac31-1708c40b35e3
DTSTART:20160302T173000
DTEND:20160302T193000

SUMMARY:DynamoNet: Cyber Resilience
DESCRIPTION:The core aim of the cyber resilience workstream is to catalyse regional cyber resilience initiatives that will (1) create cyber resilience across the regional economy\, (2) create highly-skilled jobs within the cyber security industry\, and (3) enable wider economic growth within the region’s digital economy. (Price: FREE / £24)
LOCATION:ITPS Data Centre Unit 5\, Angel House\, Drum Industrial Estate\, Chester-le-Street. DH2 1AQ
END:VEVENT
END:VCALENDAR
