BEGIN:VCALENDAR
X-WR-TIMEZONE;VALUE=TEXT:Europe/London
VERSION:2.0
CALSCALE:GREGORIAN
BEGIN:VEVENT
UID:086f778d-317b-4956-8914-40774365ec24@techdiary
DTSTAMP:20260420T072417                                     
URL:https://www.techdiary.co.uk/event/086f778d-317b-4956-8914-40774365ec24
DTSTART:20260609T090000
DTEND:20260609T170000

SUMMARY:North East Space Conference 2026
DESCRIPTION:Get ready for the North East Space Conference 2026.=0D=0A=The North East’s flagship space sector event returns on 9 June 2026 at the Radisson Blu Hotel\, Durham. Bookings are now open. (Price: FREE)
LOCATION:Radisson Blu Hotel\, Durham\, DH1 5TA
END:VEVENT
END:VCALENDAR
