BEGIN:VCALENDAR
X-WR-TIMEZONE;VALUE=TEXT:Europe/London
VERSION:2.0
CALSCALE:GREGORIAN
BEGIN:VEVENT
UID:086e15b9-81da-485f-8f70-6d0664d642d1@techdiary
DTSTAMP:20200108T161932                                     
URL:https://www.techdiary.co.uk/event/086e15b9-81da-485f-8f70-6d0664d642d1
DTSTART:20200116T183000
DTEND:20200116T203000

SUMMARY:Rainbows &amp; Kubes
DESCRIPTION:&quot;Rainbow Environments&quot; (Tobias Gray) and &quot;Learning Kubernetes&quot; (Nigel Poulton) (Price: FREE)
LOCATION:Scott Logic\, 6th Floor\, 1 St James’ Gate\, Newcastle upon Tyne\, NE1 4AD
END:VEVENT
END:VCALENDAR
