BEGIN:VCALENDAR
X-WR-TIMEZONE;VALUE=TEXT:Europe/London
VERSION:2.0
CALSCALE:GREGORIAN
BEGIN:VEVENT
UID:0815065d-c858-4b65-896b-72493d3b6193@techdiary
DTSTAMP:20200211T142109                                     
URL:https://www.techdiary.co.uk/event/0815065d-c858-4b65-896b-72493d3b6193
DTSTART:20200319T183000
DTEND:20200319T203000

SUMMARY:Humans of DevOps &amp; Git for All
DESCRIPTION:&quot;DevOps for Humans&quot; (Terry Brown) and &quot;GitOps - Demystifying Git For Ops Folk&quot; (Brett Miller). (Price: FREE)
LOCATION:Sage\, Great Park\, Newcastle
END:VEVENT
END:VCALENDAR
