BEGIN:VCALENDAR
X-WR-TIMEZONE;VALUE=TEXT:Europe/London
VERSION:2.0
CALSCALE:GREGORIAN
BEGIN:VEVENT
UID:07e7b8dd-1c54-4172-ac02-5e74e1688148@techdiary
DTSTAMP:20200115T162957                                     
URL:https://www.techdiary.co.uk/event/07e7b8dd-1c54-4172-ac02-5e74e1688148
DTSTART:20200214T090000
DTEND:20200214T120000

SUMMARY:Design in the Construction Sector
DESCRIPTION:Presentations from organisations pushing the boundaries of what&#039;s possible in Construction\, and insights into the way the industry may change. Speakers include Shaun Allan. (Price: FREE)
LOCATION:Proto\, Abbott&#039;s Hill\, Baltic Business Quarter\, Gateshead\, NE8 3DF
END:VEVENT
END:VCALENDAR
