BEGIN:VCALENDAR
X-WR-TIMEZONE;VALUE=TEXT:Europe/London
VERSION:2.0
CALSCALE:GREGORIAN
BEGIN:VEVENT
UID:07737e30-9475-4f0c-80f9-5d534b998dea@techdiary
DTSTAMP:20180618T114807                                     
URL:https://www.techdiary.co.uk/event/07737e30-9475-4f0c-80f9-5d534b998dea
DTSTART:20180620T160000
DTEND:20180620T183000

SUMMARY:Get into IT
DESCRIPTION:A CPD networking event for teachers\, careers advisors and providers of IT curriculum and careers guidance support services. (Price: FREE)
LOCATION:Burnside Business and Enterprise College\, St Peter&#039;s Road\, Wallsend\, NE28 7LQ
END:VEVENT
END:VCALENDAR
