BEGIN:VCALENDAR
X-WR-TIMEZONE;VALUE=TEXT:Europe/London
VERSION:2.0
CALSCALE:GREGORIAN
BEGIN:VEVENT
UID:06c80972-a2b0-41b6-8bbd-f160024a5b64@techdiary
DTSTAMP:20200701T172631                                     
URL:https://www.techdiary.co.uk/event/06c80972-a2b0-41b6-8bbd-f160024a5b64
DTSTART:20200708T140000
DTEND:20200708T140000

SUMMARY:Creative &amp; Cultural Programme (Social Media)
DESCRIPTION:Fully funded sessions that cover different areas of digital adoption for Sunderland-based Arts\, Culture and Heritage creatives. (Price: FREE)
LOCATION:Online (remote)
END:VEVENT
END:VCALENDAR
