BEGIN:VCALENDAR
X-WR-TIMEZONE;VALUE=TEXT:Europe/London
VERSION:2.0
CALSCALE:GREGORIAN
BEGIN:VEVENT
UID:05d864ee-717f-4a71-8603-6c9fc044f34f@techdiary
DTSTAMP:20200810T115650                                     
URL:https://www.techdiary.co.uk/event/05d864ee-717f-4a71-8603-6c9fc044f34f
DTSTART:20200910T080000
DTEND:20200910T100000

SUMMARY:Port of Tyne: Cybersecurity in Offshore and Onshore Logistics
DESCRIPTION:Workshops and panel discussion with Dr Jo North\, James Holmes\, Craig Hays\, Phil Butler\, Phil Jackman\, Ian Blake. (Price: FREE)
LOCATION:Online (remote)
END:VEVENT
END:VCALENDAR
