BEGIN:VCALENDAR
X-WR-TIMEZONE;VALUE=TEXT:Europe/London
VERSION:2.0
CALSCALE:GREGORIAN
BEGIN:VEVENT
UID:04dc0299-e416-43ae-92d6-72014465421b@techdiary
DTSTAMP:20220521T084132                                     
URL:https://www.techdiary.co.uk/event/04dc0299-e416-43ae-92d6-72014465421b
DTSTART:20220523T140000
DTEND:20220523T150000

SUMMARY:Digital Talent Engine Information Event
DESCRIPTION:The Digital Talent Engine is a brand new initiative that is helping to strengthen the tech talent pipeline in the North East. (Price: FREE)
LOCATION:Online (remote)
END:VEVENT
END:VCALENDAR
