BEGIN:VCALENDAR
X-WR-TIMEZONE;VALUE=TEXT:Europe/London
VERSION:2.0
CALSCALE:GREGORIAN
BEGIN:VEVENT
UID:02d9cfd9-db7b-4ef4-b94f-971a8d0a0db4@techdiary
DTSTAMP:20160726T161211                                     
URL:https://www.techdiary.co.uk/event/02d9cfd9-db7b-4ef4-b94f-971a8d0a0db4
DTSTART:20160817T183000
DTEND:20160817T183000

SUMMARY:DevOps North East: &quot;Monitoring and Patching&quot;
DESCRIPTION:Two talks\, “Why we have not patched a server in two years but are not worried about it” (Mike Goodwin) and &quot;a framework from monitoring in a DevOps world&quot; (David Darwent) (Price: FREE)
LOCATION:Classroom\, Campus North\, Sunco House\, 5 Carliol Square\, Newcastle Upon Tyne\, NE1 6UF
END:VEVENT
END:VCALENDAR
