BEGIN:VCALENDAR
X-WR-TIMEZONE;VALUE=TEXT:Europe/London
VERSION:2.0
CALSCALE:GREGORIAN
BEGIN:VEVENT
UID:026f4d80-1c66-41a4-ab49-6af69c7c4d82@techdiary
DTSTAMP:20160515T092030                                     
URL:https://www.techdiary.co.uk/event/026f4d80-1c66-41a4-ab49-6af69c7c4d82
DTSTART:20160414T190000
DTEND:20160414T230000

SUMMARY:Dynamo Board Dinner
DESCRIPTION:Exclusive Dynamo members dinner. (Price: £96)
LOCATION:Close House Heddon on the Wall  NE41 8BL
END:VEVENT
END:VCALENDAR
