BEGIN:VCALENDAR
X-WR-TIMEZONE;VALUE=TEXT:Europe/London
VERSION:2.0
CALSCALE:GREGORIAN
BEGIN:VEVENT
UID:01b8d542-6bb7-48b4-bb04-9a2d37b92aa2@techdiary
DTSTAMP:20220208T143519                                     
URL:https://www.techdiary.co.uk/event/01b8d542-6bb7-48b4-bb04-9a2d37b92aa2
DTSTART:20220302T083000
DTEND:20220302T120000

SUMMARY:NTCA Digital Growth and Innovation Programme Launch
DESCRIPTION:Find out more about why and how the North of Tyne Digital Growth and Innovation Programme will benefit you. (Price: FREE)
LOCATION:The Core\, Science Central\, Bath Lane\, Newcastle upon Tyne\, NE4 5TF
END:VEVENT
END:VCALENDAR
